Workbook

Sheet Attachment A
A1: BID 26-050DNS Indoor Bleacher Inspection, Repair and Replacement ATTACHMENT A Part 3 Bleacher List by Manufacturer Inspection Cost Excel workbook; 7 spreadsheets SUBMIT WITH YOUR BID

Sheet Folding Bleacher Co.
A1: ATTACHMENT A
A2: BLEACHER LIST BY MANUFACTURER & INSPECTION COST
A3: BID 26-050DNS
A4: Indoor Bleacher Inspection & Repair/Replacement Services
A6: *Extended Total of Inspection Cost is to be used when completing Bid Pricing Form, Page 28, Part 1, Item No. 1.
A8: MANUFACTURER: Folding Bleacher Co.
A10: MIDDLE SCHOOLS | B10: Address | C10: Phone | D10: Inspection Cost * per Gym Total
A11: Desert Ridge MS-430 | B11: 8400 Barstow | C11: 857-9282
A12: Folding Bleacher Co., 9” rise, 26” row/width, 10 rows-5 sections. Plastic seating.
A15: ELEMENTARY SCHOOLS | B15: Address | C15: Phone | D15: Inspection Cost * per Gym Total
A16: La Luz ES-282 | B16: 225 Griegos NW | C16: 761-8415
A17: Folding Bleacher Co., 5 rows-3 sections. Plastic seating.
B19: Extended Total * | D19: =SUM(D12:D17) -> 0
A20: * Enter Extended Total on Bid Pricing Form, Page 28, Part 1, Item No. 1.

Sheet Hussey
A1: ='Folding Bleacher Co.'!A1:D1 -> ATTACHMENT A
A2: ='Folding Bleacher Co.'!A2:D2 -> BLEACHER LIST BY MANUFACTURER & INSPECTION COST
A3: ='Folding Bleacher Co.'!A3:D3 -> BID 26-050DNS
A4: ='Folding Bleacher Co.'!A4:D4 -> Indoor Bleacher Inspection & Repair/Replacement Services
A6: ='Folding Bleacher Co.'!A6:D6 -> *Extended Total of Inspection Cost is to be used when completing Bid Pricing Form, Page 28, Part 1, Item No. 1.
A8: MANUFACTURER: Hussey
A10: HIGH SCHOOLS | B10: Address | C10: Phone | D10: Inspection Cost * per Gym Total
A11: Albuquerque HS-590 | B11: 800 Odelia NE | C11: 843-6400
A12: Upper: Hussey, 112" high, 9" rise, 20” row/width, 11 rows-4 sections on each side. Wood seats.
A14: Del Norte HS-514 | B14: 5323 Montgomery NE | C14: 883-7222
A15: Upper: Hussey, 10' high, 10" rise, 14 rows-4 sections. Installed 2013.
A17: Highland HS-520 | B17: 4700 Coal SE | C17: 265-3711
A18: Lower: Hussey Max, East/8 rows-2 sections; West/8 rows-2 sections. 46’ long plastic seating. Installed 2008.
A19: Upper: Fixed seating; Installed 2019
A21: Aux Gym: Bleachers run east-west. One Bank, 4 Tier, 26" Row Spacing, 9.625 Row Rise, ADA Compliant. Self- Storing
A22: End Rails; Auto Rotating Aisle Rails; Pendant Controlled; Three Phase Power; XCS Courtside Seat Modules- LH and RH End Panels.
A24: Main Gym: Split in Two Levels, Flanking the West and East Walls; Runs North-South;
A25: Each side has 7 Rows@Main Floor Level; 10 Rows at Balcony Level. Running North-South
A27: La Cueva HS-525 | B27: 7801 Wilshire NE | C27: 823-2327
A28: Lower: Hussey, 10' high, 8" rise, 12 rows-6 sections. North & South sides. Wood seating.
A29: Upper: Hussey, Unknown height & 10" rise, 10 rows-5 sections. North and South sides.
A31: Lower: Hussey Max, West Side/18 rows-4 sections., East Side/18 rows-7 sections. Plastic seating. (4 motors)
A32: Upper: Hussey Max, East and West Sides 16 rows-3 sect. Plastic seats. Installed 2008. (3 motors)
A34: Sandia HS - 550 | B34: 7801 Candelaria NE | C34: 294-1511
A35: Lower Hussey Max, 15" high, 8" rise, 15 rows- 4 sections. Plastic seating. East & West. Installed 2008
A37: Volcano Vista | B37: 8100 Rainbow Blvd. NW | C37: 890-0343
A38: Lower: Hussey Max, West Side/ 18 Rows- 4 sections, East Side/ 18 rows- 7 sections. Plastic Seating.
A39: Upper: Hussey Max, East and West Sides. 16 rows- 3 sections. Plastic seats. Installed 2008. 3 motors
A41: West Mesa HS-570 | B41: 6701 Fortuna NW | C41: 831-6993
A42: New Gym: Lower Bleachers Hussey, 10', 10' rise, 14 rows, 4 actions. East and West. Plastic seating.
A43: Upper Bleachers Interkal; 11 rows, 11 1/12 rise, 24" row, East and West. Plastic Seating
A44: Old Gym: North West side: Hussey Max., 13 rows-1 sections. Plastic seats.
A47: MIDDLE SCHOOLS | B47: Address | C47: Phone | D47: Inspection Cost * per Gym Total
A48: Desert Willow MS-900 | B48: 3303 Monroe NE | C48: 888-1647
A49: Hussey, two portable banks wood seating.
A50: `
A51: Ernie Pyle MS-450 | B51: 1820 Valdora SW | C51: 877-3770
A52: Hussey Max, West Side/8 rows-4 sections. Plastic seating. Installed 2008.
A54: Garfield MS-410 | B54: 3501 Sixth NW | C54: 344-1647
A55: Hussey Max, North 80’/5 rows-3 sections, and South 80’/5 rows-3 sections. Plastic seating. Installed 2008.
A56: `
A57: George I Sanchez MS-496 | B57: 4050 118th St. SW | C57: 362-1154
A58: Hussey, Plastic seating.
A60: Grant MS-413 | B60: 1111 Easterday NE | C60: 299-2113
A61: Hussey, North side 8 rows-3 sections. Plastic seating.
A63: Harrison MS-415 | B63: 3912 Isleta SW | C63: 877-1279
A64: Hussey Max, West side 7 rows-4 sections. Plastic seating. Installed 2008.
A66: Hoover MS-418 | B66: 12015 Tivoli NE | C66: 298-6896
A67: Hussey, 8'5" high, unknown rise, 9 rows-4 sections. Plastic seating 2011.
A69: Kennedy MS-427 | B69: 721 Tomasita NE | C69: 298-6701
A70: Hussey Max, 6 rows-3 sections. Plastic seating. Installed 2009.
A72: Polk MS-448 | B72: 2220 Raymac SW | C72: 877-6444
A73: Hussey Max, 8" rise, 9 rows-5 sections. Installed 2008.
A75: Roosevelt MS-452 | B75: 11799 State Highway 14S | C75: 281-3316
A76: Hussy Max, 8 rows-3 sections. Plastic seating. Installed 2009.
A78: Van Buren MS-460 | B78: 700 Louisiana SE | C78: 268-3833
A79: Hussey Max, East & West/6 rows-2 sections. Plastic seating. Installed 2008.
A81: Wilson MS-470 | B81: 1138 Cardenas SE | C81: 268-3961
A82: Hussey, wood seating. Wall attached; Row rise 9 5/8”; Tiers 1-8. 3 sections, 3 aisles. ADA Compliant.
A84: ELEMENTARY SCHOOLS | B84: Address | C84: Phone | D84: Inspection Cost * per Gym Total
A85: Alameda ES-207 | B85: 412 Alameda NW | C85: 898-0070
A86: Hussey, 8 rows-2 sections. Wood seating. (3 motors)
A88: CHARTER SCHOOLS | B88: Address | C88: Phone | D88: Inspection Cost * per Gym Total
A89: RFK CS-728 | B89: 4300 Blake Rd. SW | C89: 873-1165
A90: Hussey, bleachers Plastic Seating.
B91: Extended Total * | D91: =SUM(D12:D90) -> 0
A92: * Enter Extended Total on Bid Pricing Form, Page 28, Part 1, Item No. 1.

Sheet Interkal
A1: ='Folding Bleacher Co.'!A1:D1 -> ATTACHMENT A
A2: ='Folding Bleacher Co.'!A2:D2 -> BLEACHER LIST BY MANUFACTURER & INSPECTION COST
A3: ='Folding Bleacher Co.'!A3:D3 -> BID 26-050DNS
A4: ='Folding Bleacher Co.'!A4:D4 -> Indoor Bleacher Inspection & Repair/Replacement Services
A6: ='Folding Bleacher Co.'!A6:D6 -> *Extended Total of Inspection Cost is to be used when completing Bid Pricing Form, Page 28, Part 1, Item No. 1.
A8: MANUFACTURER: Interkal
A9: HIGH SCHOOLS | B9: Address | C9: Phone | D9: Inspection Cost * per Gym Total
A10: Albuquerque HS-590 | B10: 800 Odelia NE | C10: 843-6400
A11: Lower: Interkal, 10' high, 9" rise, 27" row/width. West and East sides 11 rows-8 sections. Plastic seats.
A13: Eldorado HS-515 | B13: 11300 Montgomery NE | C13: 296-4871
A14: Lower Banks: Interkal, Plastic Seating.
A15: Upper banks: Interkal, Plastic Seating.
A17: West Mesa HS-570 | B17: 6701 Fortuna NW | C17: 831-6993
A18: New Gym Lower Bleachers: Interkal, Plastic Seating.
A20: MIDDLE SCHOOLS | B20: Address | C20: Phone | D20: Inspection Cost * per Gym Total
A21: Cleveland MS-407 | B21: 6910 Natalie NE | C21: 881-9227
A22: Interkal, 12’ high, 9” rise, 13 rows-6 sections. Wood. Gymnasium seating.
A24: Hayes MS-416 | B24: 1100 Texas NE | C24: 265-7741
A25: Interkal, Plastic Seating.
A27: Jimmy Carter MS-445 | B27: 8901 Blue Water SW | C27: 833-7540
A28: Interkal, 9” rise; 26” row/width, North/7 rows-3 sections, and South/8 rows-4 sections. Plastic seating. Installed 2000.
A30: John Adams MS-405 | B30: 5401 Glenrio NW | C30: 831-0400
A31: Interkal, 7” rise, 7 rows-4 sections. Wood. (4 motors)
A33: L.B. Johnson MS-485 | B33: 6811 Taylor Ranch NW | C33: 898-1492
A34: Old Gym: Interkal, 97" high, 9 "rise, 9 rows-5 sections. Plastic seating.
A36: McKinley MS-440 | B36: 4500 Comanche NE | C36: 881-9390
A37: Interkal, 76" high, 9" rise, 7 rows-4 sections. Plastic seating.
A39: Taft MS-455 | B39: 620 Schulte NW | C39: 344-4389
A40: Interkal, 7'2" high, 8"rise, 8 rows-6 sections. Plastic seating.
A42: Taylor MS-457 | B42: 8200 Guadalupe Trail NW | C42: 898-3666
A43: Interkal, 8'3" high, 8" rise. 8 rows-4 sections. Metal seating.
A45: Truman MS-475 | B45: 9400 Benavidez SW | C45: 836-3030
A46: Interkal, 6' high, 9" rise, 26" row/width, 10 rows-4 sections. Plastic seating.
A49: ELEMENTARY SCHOOLS | B49: Address | C49: Phone | D49: Inspection Cost * per Gym Total
A50: Seven Bar ES-265 | B50: 4501 Seven Bar Loop NW | C50: 899-2797
A51: Interkal, Plastic Seating.
B53: Extended Total * | D53: =SUM(D11:D51) -> 0
A54: * Enter Extended Total on Bid Pricing Form, Page28, Part 1, Item No. 1.

Sheet Irwin
A1: ='Folding Bleacher Co.'!A1:D1 -> ATTACHMENT A
A2: ='Folding Bleacher Co.'!A2:D2 -> BLEACHER LIST BY MANUFACTURER & INSPECTION COST
A3: ='Folding Bleacher Co.'!A3:D3 -> BID 26-050DNS
A4: ='Folding Bleacher Co.'!A4:D4 -> Indoor Bleacher Inspection & Repair/Replacement Services
A6: ='Folding Bleacher Co.'!A6:D6 -> *Extended Total of Inspection Cost is to be used when completing Bid Pricing Form, Page 28, Part 1, Item No. 1.
A8: MANUFACTURER: Irwin
A9: HIGH SCHOOLS | B9: Address | C9: Phone | D9: Inspection Cost * per Gym Total
A10: Atrisco Heritage Academy HS-576 | B10: 10800 Dennis Chavez Blvd. SW | C10: 243-1458
A11: Lower: Irwin, 15 rows-5 sections. North and South.
A12: Upper: Irwin, 7 rows-5 sections.
A14: Cibola HS-580 | B14: 1510 Ellison Dr. NW | C14: 897-0110
A15: Lower: Irwin, Plastic Seating
A17: Rio Grande HS-540 | B17: 2300 Arenal SW | C17: 873-0220
A18: Upper: Irwin, North, Rise 12", Rows 9, Sections 4, Capacity 395 0 HC, Plastic
A19: Upper: Irwin, South, Rise 12", Rows 9, Sections 4, Capacity 470 + 4 HC, Plastic Lower: Irwin, North &South, Rise 12", Sections 4, Capacity 416 + 4HC, Plastic
A21: Manzano HS-530 | B21: 12200 Lomas NE | C21: 559-2200
A22: Upper West: Irwin, Rows 9, Sections 4, Rise 12", High 9', Row/width 28", Capacity 395, Aisles 3
A23: Upper East: Irwin, Rows 9, Sections 4, Rise 12", High 9', Row/width 26", Capacity 470 + 4 HC, Aisles 3
A25: Lower East & West: Irwin, Rows 8, Sections 4, Rise 12", High 8'5", Row/width 25", Capacity 416 + 4 HC, Aisles 3
A28: MIDDLE SCHOOLS | B28: Address | C28: Phone | D28: Inspection Cost * per Gym Total
A29: Eisenhower MS-480 | B29: 11001 Camero Rd. NE | C29: 292-2530
A30: Irwin, East, west banks plastic seating.
A32: Jackson MS-420 | B32: 10600 Indian School NE | C32: 299-7377
A33: Irwin, 7'2" high, 8" rise, 8 rows-5 sections. Plastic seating installed 2011.
A35: James Monroe MS-490 | B35: 6100 Paradise Blvd. NW | C35: 897-0101
A36: Irwin, West side/10 rows-6 sections. East side/3 rows-3 sections. Plastic seating.
A38: Jefferson MS-425 | B38: 712 Girard NE | C38: 255-8691
A39: Irwin, Plastic Seating
A41: L.B. Johnson MS-485 | B41: 6811 Taylor Ranch NW | C41: 898-1492
A42: New Gym: Irwin, 9" rise, North side/3 rows-4 sections, and South side/9 rows-4 sections.
A44: Tony Hillerman MS-492 | B44: 8101 Rainbow NW | C44: 792-0698
A45: Irwin, East & West sides/17rows-5 sections. (5 motors)
A47: Washington MS-465 | B47: 1101 Park SW | C47: 764-2000
A48: Irwin, Plastic Seating South & North banks.
A51: ELEMENTARY SCHOOLS | B51: Address | C51: Phone | D51: Inspection Cost * per Gym Total
A52: Janet Kahn of Integrated Arts-258 | B52: 9717 Indian School Rd. NE | C52: 299-4483
A53: New Gym: Irwin, North, Rows 8, Sections 3, Rise 10", High 7'1",
A54: Row/width 24", Capacity 355 + 6 HC, Aisles 2, 48", Plastic
A56: CHARTER SCHOOLS | B56: Address | C56: Phone | D56: Inspection Cost * per Gym Total
A57: South Valley Academy CH-725 | B57: 3426 Blake Rd. SW | C57: 452-3132
A58: Irwin, Wood Seating.
B59: Extended Total * | D59: =SUM(D11:D58) -> 0
A60: * Enter Extended Total on Bid Pricing Form, Page 28, Part 1, Item No. 1.

Sheet Medart
A1: ='Folding Bleacher Co.'!A1:D1 -> ATTACHMENT A
A2: ='Folding Bleacher Co.'!A2:D2 -> BLEACHER LIST BY MANUFACTURER & INSPECTION COST
A3: ='Folding Bleacher Co.'!A3:D3 -> BID 26-050DNS
A4: ='Folding Bleacher Co.'!A4:D4 -> Indoor Bleacher Inspection & Repair/Replacement Services
A6: ='Folding Bleacher Co.'!A6:D6 -> *Extended Total of Inspection Cost is to be used when completing Bid Pricing Form, Page 28, Part 1, Item No. 1.
A8: MANUFACTURER: Medart
A9: HIGH SCHOOLS | B9: Address | C9: Phone | D9: Inspection Cost * per Gym Total
A10: Cibola HS-580 | B10: 1510 Ellison Dr. NW | C10: 897-0110
A11: Upper: Medart, 10’ high, 11” rise, 25” row/width. 9 rows-6 sections, North and South Side. Wood seating.
A13: Del Norte HS-514 | B13: 5323 Montgomery NE | C13: 883-7222
A14: Lower: Medart, 11' high, 10" rise, 12 rows-5 sections, North side and 12 rows-6 sections, South side. Wood seating.
A16: West Mesa HS-570 | B16: 6701 Fortuna NW | C16: 831-6993
A17: Old Gym: Medart, South side 12’3” high, 8.5” rise, 14 rows-5 sections. Wood.
B19: Extended Total * | D19: =SUM(D11:D17) -> 0
A20: * Enter Extended Total on Bid Pricing Form, Page 28, Part 1, Item No. 1.

Sheet Sheridan
A1: ='Folding Bleacher Co.'!A1:D1 -> ATTACHMENT A
A2: ='Folding Bleacher Co.'!A2:D2 -> BLEACHER LIST BY MANUFACTURER & INSPECTION COST
A3: ='Folding Bleacher Co.'!A3:D3 -> BID 26-050DNS
A4: ='Folding Bleacher Co.'!A4:D4 -> Indoor Bleacher Inspection & Repair/Replacement Services
A6: ='Folding Bleacher Co.'!A6:D6 -> *Extended Total of Inspection Cost is to be used when completing Bid Pricing Form, Page 28, Part 1, Item No. 1.
A8: MANUFACTURER: Sheridan
A9: HIGH SCHOOLS | B9: Address | C9: Phone | D9: Inspection Cost * per Gym Total
A10: Valley HS-560 | B10: 1505 Candelaria NW | C10: 345-9021
A11: Lower: Sheridan, Middle of Gym/9 rows-4 sections, NE/5 rows-1 sections, SW/5 rows-1 section, North/10 rows-7 sections. All plastic seating.
A12: Upper: Sheridan, 17 rows-8 sections. Plastic seating.
B14: Extended Total * | D14: =SUM(D11:D12) -> 0
A15: * Enter Extended Total on Bid Pricing Form, Page 28, Part 1, Item No. 1.

Sheet Other
A1: ='Folding Bleacher Co.'!A1:D1 -> ATTACHMENT A
A2: ='Folding Bleacher Co.'!A2:D2 -> BLEACHER LIST BY MANUFACTURER & INSPECTION COST
A3: ='Folding Bleacher Co.'!A3:D3 -> BID 26-050DNS
A4: ='Folding Bleacher Co.'!A4:D4 -> Indoor Bleacher Inspection & Repair/Replacement Services
A6: ='Folding Bleacher Co.'!A6:D6 -> *Extended Total of Inspection Cost is to be used when completing Bid Pricing Form, Page 28, Part 1, Item No. 1.
A8: MANUFACTURER: Other
A9: HIGH SCHOOLS | B9: Address | C9: Phone | D9: Inspection Cost * per Gym Total
A10: Del Norte HS-514 | B10: 5323 Montgomery NE | C10: 883-7222
A11: Aux Gym: West & East, 9" rise, 12 rows-4 sections with spring.
A13: Sandia HS-550 | B13: 7801 Candelaria NE | C13: 294-1511
A14: Aux: Aluminum Portable.
A16: West Mesa HS-570 | B16: 6701 Fortuna NW | C16: 831-6993
A17: Old Gym: North East side, 14 rows-3 sections.
A19: MIDDLE SCHOOLS | D19: Inspection Cost * per Gym Total
A20: Madison MS-435 | B20: 3501 Moon St NE | C20: 881-9380
A21: Main Gym: 10" rise, 8 rows, east/west orientation (facing south, attached to north wall), plastic seating
A22: Date of original install unknown.
B23: Extended Total * | D23: =SUM(D11:D17) -> 0
A24: * Enter Extended Total on Bid Pricing Form, Page 28, Part 1, Item No. 1.
